Package: limma Version: 3.64.3 Command: /home/biocbuild/R/R/bin/R CMD build --keep-empty-dirs --no-resave-data limma StartedAt: 2025-10-14 01:59:59 -0000 (Tue, 14 Oct 2025) EndedAt: 2025-10-14 02:00:32 -0000 (Tue, 14 Oct 2025) EllapsedTime: 33.0 seconds RetCode: 0 Status: OK PackageFile: limma_3.64.3.tar.gz PackageFileSize: 2.737 MiB