Package: limma Version: 3.64.3 Command: /Library/Frameworks/R.framework/Resources/bin/R CMD INSTALL limma StartedAt: 2025-10-13 15:08:02 -0400 (Mon, 13 Oct 2025) EndedAt: 2025-10-13 15:08:17 -0400 (Mon, 13 Oct 2025) EllapsedTime: 14.8 seconds RetCode: 0 Status: OK