Package: limma Version: 3.64.3 Command: rm -rf limma.buildbin-libdir && mkdir limma.buildbin-libdir && /Users/biocbuild/BBS/utils/build-universal.sh limma_3.64.3.tar.gz /Library/Frameworks/R.framework/Resources/bin/R limma.buildbin-libdir StartedAt: 2025-10-15 19:04:35 -0400 (Wed, 15 Oct 2025) EndedAt: 2025-10-15 19:04:55 -0400 (Wed, 15 Oct 2025) EllapsedTime: 20.3 seconds RetCode: 0 Status: OK PackageFile: limma_3.64.3.tgz PackageFileSize: 3.006 MiB