Package: levi Version: 1.26.0 Command: /home/biocbuild/bbs-3.21-bioc/R/bin/R CMD INSTALL levi StartedAt: 2025-10-15 15:09:43 -0400 (Wed, 15 Oct 2025) EndedAt: 2025-10-15 15:10:08 -0400 (Wed, 15 Oct 2025) EllapsedTime: 24.1 seconds RetCode: 0 Status: OK