Package: levi Version: 1.26.0 Command: /home/biocbuild/bbs-3.21-bioc/R/bin/R CMD check --install=check:levi.install-out.txt --library=/home/biocbuild/bbs-3.21-bioc/R/site-library --timings levi_1.26.0.tar.gz StartedAt: 2025-10-16 00:32:15 -0400 (Thu, 16 Oct 2025) EndedAt: 2025-10-16 00:35:52 -0400 (Thu, 16 Oct 2025) EllapsedTime: 216.4 seconds RetCode: 0 Status: OK CheckDir: levi.Rcheck Warnings: 0