Package: les Version: 1.58.0 Command: /Library/Frameworks/R.framework/Resources/bin/R CMD check --install=check:les.install-out.txt --library=/Library/Frameworks/R.framework/Resources/library --no-vignettes --timings les_1.58.0.tar.gz StartedAt: 2025-10-14 05:46:19 -0400 (Tue, 14 Oct 2025) EndedAt: 2025-10-14 05:48:10 -0400 (Tue, 14 Oct 2025) EllapsedTime: 110.9 seconds RetCode: 0 Status: OK CheckDir: les.Rcheck Warnings: 0