Package: lemur Version: 1.6.0 Command: /Library/Frameworks/R.framework/Resources/bin/R CMD INSTALL lemur StartedAt: 2025-04-21 15:31:27 -0400 (Mon, 21 Apr 2025) EndedAt: 2025-04-21 15:32:20 -0400 (Mon, 21 Apr 2025) EllapsedTime: 52.5 seconds RetCode: 0 Status: OK