Package: lemur Version: 1.6.0 Command: /Library/Frameworks/R.framework/Resources/bin/R CMD build --keep-empty-dirs --no-resave-data lemur StartedAt: 2025-04-21 17:17:43 -0400 (Mon, 21 Apr 2025) EndedAt: 2025-04-21 17:19:34 -0400 (Mon, 21 Apr 2025) EllapsedTime: 111.1 seconds RetCode: 0 Status: OK PackageFile: lemur_1.6.0.tar.gz PackageFileSize: 3.528 MiB