Package: lemur Version: 1.6.1 Command: /home/biocbuild/R/R/bin/R CMD build --keep-empty-dirs --no-resave-data lemur StartedAt: 2025-10-14 01:59:16 -0000 (Tue, 14 Oct 2025) EndedAt: 2025-10-14 02:01:46 -0000 (Tue, 14 Oct 2025) EllapsedTime: 150.0 seconds RetCode: 0 Status: OK PackageFile: lemur_1.6.1.tar.gz PackageFileSize: 3.332 MiB