Package: lefser Version: 1.18.0 Command: /home/biocbuild/bbs-3.21-bioc/R/bin/R CMD INSTALL lefser StartedAt: 2025-10-15 15:57:08 -0400 (Wed, 15 Oct 2025) EndedAt: 2025-10-15 15:57:35 -0400 (Wed, 15 Oct 2025) EllapsedTime: 26.7 seconds RetCode: 0 Status: OK