Package: lefser Version: 1.18.0 Command: /home/biocbuild/bbs-3.21-bioc/R/bin/R CMD check --install=check:lefser.install-out.txt --library=/home/biocbuild/bbs-3.21-bioc/R/site-library --timings lefser_1.18.0.tar.gz StartedAt: 2025-10-16 00:31:41 -0400 (Thu, 16 Oct 2025) EndedAt: 2025-10-16 00:36:23 -0400 (Thu, 16 Oct 2025) EllapsedTime: 281.5 seconds RetCode: 0 Status: WARNINGS CheckDir: lefser.Rcheck Warnings: 1