Package: lefser Version: 1.18.0 Command: /Library/Frameworks/R.framework/Resources/bin/R CMD check --install=check:lefser.install-out.txt --library=/Library/Frameworks/R.framework/Resources/library --no-vignettes --timings lefser_1.18.0.tar.gz StartedAt: 2025-10-01 01:47:57 -0400 (Wed, 01 Oct 2025) EndedAt: 2025-10-01 01:53:17 -0400 (Wed, 01 Oct 2025) EllapsedTime: 319.3 seconds RetCode: 0 Status: WARNINGS CheckDir: lefser.Rcheck Warnings: 1