Package: lefser Version: 1.18.0 Command: rm -rf lefser.buildbin-libdir && mkdir lefser.buildbin-libdir && /Users/biocbuild/BBS/utils/build-universal.sh lefser_1.18.0.tar.gz /Library/Frameworks/R.framework/Resources/bin/R lefser.buildbin-libdir StartedAt: 2025-10-01 19:02:52 -0400 (Wed, 01 Oct 2025) EndedAt: 2025-10-01 19:03:26 -0400 (Wed, 01 Oct 2025) EllapsedTime: 34.0 seconds RetCode: 0 Status: OK PackageFile: lefser_1.18.0.tgz PackageFileSize: 669 KiB