Package: ldblock Version: 1.38.0 Command: /Library/Frameworks/R.framework/Resources/bin/R CMD check --install=check:ldblock.install-out.txt --library=/Library/Frameworks/R.framework/Resources/library --no-vignettes --timings ldblock_1.38.0.tar.gz StartedAt: 2025-10-14 05:44:37 -0400 (Tue, 14 Oct 2025) EndedAt: 2025-10-14 05:47:35 -0400 (Tue, 14 Oct 2025) EllapsedTime: 178.3 seconds RetCode: 0 Status: OK CheckDir: ldblock.Rcheck Warnings: 0