Package: ldblock Version: 1.38.0 Maintainer: VJ Carey MaintainerEmail: stvjc at channing.harvard.edu git_url: https://git.bioconductor.org/packages/ldblock git_branch: RELEASE_3_21 git_last_commit: aad2e2a git_last_commit_date: 2025-04-15 10:53:03 -0400 (Tue, 15 Apr 2025)