Package: lapmix Version: 1.74.0 Command: /Library/Frameworks/R.framework/Resources/bin/R CMD INSTALL lapmix StartedAt: 2025-10-13 15:21:31 -0400 (Mon, 13 Oct 2025) EndedAt: 2025-10-13 15:21:33 -0400 (Mon, 13 Oct 2025) EllapsedTime: 1.8 seconds RetCode: 1 Status: ERROR