Package: lapmix Version: 1.74.0 Command: /Library/Frameworks/R.framework/Resources/bin/R CMD build --keep-empty-dirs --no-resave-data lapmix StartedAt: 2025-10-13 20:05:00 -0400 (Mon, 13 Oct 2025) EndedAt: 2025-10-13 20:05:02 -0400 (Mon, 13 Oct 2025) EllapsedTime: 2.2 seconds RetCode: 1 Status: ERROR PackageFile: None PackageFileSize: NA