Package: lapmix Version: 1.74.0 Command: /home/biocbuild/R/R/bin/R CMD INSTALL lapmix StartedAt: 2025-10-13 20:23:39 -0000 (Mon, 13 Oct 2025) EndedAt: 2025-10-13 20:23:40 -0000 (Mon, 13 Oct 2025) EllapsedTime: 1.3 seconds RetCode: 1 Status: ERROR