Package: lapmix Version: 1.74.0 Command: /home/biocbuild/R/R/bin/R CMD build --keep-empty-dirs --no-resave-data lapmix StartedAt: 2025-10-14 01:58:47 -0000 (Tue, 14 Oct 2025) EndedAt: 2025-10-14 01:58:48 -0000 (Tue, 14 Oct 2025) EllapsedTime: 1.0 seconds RetCode: 1 Status: ERROR PackageFile: None PackageFileSize: NA