Package: lapmix Version: 1.74.0 Command: /Library/Frameworks/R.framework/Resources/bin/R CMD build --keep-empty-dirs --no-resave-data lapmix StartedAt: 2025-10-14 03:05:42 -0400 (Tue, 14 Oct 2025) EndedAt: 2025-10-14 03:05:43 -0400 (Tue, 14 Oct 2025) EllapsedTime: 1.2 seconds RetCode: 1 Status: ERROR PackageFile: None PackageFileSize: NA