Package: knowYourCG Version: 1.4.0 Command: /home/biocbuild/bbs-3.21-bioc/R/bin/R CMD build --keep-empty-dirs --no-resave-data knowYourCG StartedAt: 2025-10-15 18:12:04 -0400 (Wed, 15 Oct 2025) EndedAt: 2025-10-15 18:14:06 -0400 (Wed, 15 Oct 2025) EllapsedTime: 122.2 seconds RetCode: 0 Status: OK PackageFile: knowYourCG_1.4.0.tar.gz PackageFileSize: 14.57 MiB