Package: knowYourCG Version: 1.4.0 Command: /Library/Frameworks/R.framework/Resources/bin/R CMD build --keep-empty-dirs --no-resave-data knowYourCG StartedAt: 2025-10-13 20:04:35 -0400 (Mon, 13 Oct 2025) EndedAt: 2025-10-13 20:08:48 -0400 (Mon, 13 Oct 2025) EllapsedTime: 252.3 seconds RetCode: 0 Status: OK PackageFile: knowYourCG_1.4.0.tar.gz PackageFileSize: 14.58 MiB