Package: knowYourCG Version: 1.4.0 Command: rm -rf knowYourCG.buildbin-libdir && mkdir knowYourCG.buildbin-libdir && /Users/biocbuild/BBS/utils/build-universal.sh knowYourCG_1.4.0.tar.gz /Library/Frameworks/R.framework/Resources/bin/R knowYourCG.buildbin-libdir StartedAt: 2025-04-21 22:39:59 -0400 (Mon, 21 Apr 2025) EndedAt: 2025-04-21 22:40:11 -0400 (Mon, 21 Apr 2025) EllapsedTime: 12.3 seconds RetCode: 0 Status: OK PackageFile: knowYourCG_1.4.0.tgz PackageFileSize: 13.22 MiB