Package: knowYourCG Version: 1.4.0 Command: rm -rf knowYourCG.buildbin-libdir && mkdir knowYourCG.buildbin-libdir && /Users/biocbuild/BBS/utils/build-universal.sh knowYourCG_1.4.0.tar.gz /Library/Frameworks/R.framework/Resources/bin/R knowYourCG.buildbin-libdir StartedAt: 2025-10-15 19:03:36 -0400 (Wed, 15 Oct 2025) EndedAt: 2025-10-15 19:04:10 -0400 (Wed, 15 Oct 2025) EllapsedTime: 33.9 seconds RetCode: 0 Status: OK PackageFile: knowYourCG_1.4.0.tgz PackageFileSize: 13.26 MiB