Package: kmcut Version: 1.2.0 Command: /home/biocbuild/bbs-3.21-bioc/R/bin/R CMD check --install=check:kmcut.install-out.txt --library=/home/biocbuild/bbs-3.21-bioc/R/site-library --timings kmcut_1.2.0.tar.gz StartedAt: 2025-10-16 00:30:12 -0400 (Thu, 16 Oct 2025) EndedAt: 2025-10-16 00:32:48 -0400 (Thu, 16 Oct 2025) EllapsedTime: 156.3 seconds RetCode: 0 Status: OK CheckDir: kmcut.Rcheck Warnings: 0