Package: kmcut Version: 1.2.0 Command: /home/biocbuild/bbs-3.21-bioc/R/bin/R CMD build --keep-empty-dirs --no-resave-data kmcut StartedAt: 2025-10-15 18:12:02 -0400 (Wed, 15 Oct 2025) EndedAt: 2025-10-15 18:12:41 -0400 (Wed, 15 Oct 2025) EllapsedTime: 39.0 seconds RetCode: 0 Status: OK PackageFile: kmcut_1.2.0.tar.gz PackageFileSize: 1.166 MiB