Package: kmcut Version: 1.2.0 Command: /Library/Frameworks/R.framework/Resources/bin/R CMD INSTALL kmcut StartedAt: 2025-10-13 15:42:54 -0400 (Mon, 13 Oct 2025) EndedAt: 2025-10-13 15:43:40 -0400 (Mon, 13 Oct 2025) EllapsedTime: 45.9 seconds RetCode: 0 Status: OK