Package: kmcut Version: 1.2.0 Command: /Library/Frameworks/R.framework/Resources/bin/R CMD build --keep-empty-dirs --no-resave-data kmcut StartedAt: 2025-10-13 20:04:17 -0400 (Mon, 13 Oct 2025) EndedAt: 2025-10-13 20:05:42 -0400 (Mon, 13 Oct 2025) EllapsedTime: 85.1 seconds RetCode: 0 Status: OK PackageFile: kmcut_1.2.0.tar.gz PackageFileSize: 1.259 MiB