Package: karyoploteR Version: 1.34.2 Command: E:\biocbuild\bbs-3.21-bioc\R\bin\R.exe CMD INSTALL karyoploteR StartedAt: 2025-08-14 16:54:17 -0400 (Thu, 14 Aug 2025) EndedAt: 2025-08-14 16:55:44 -0400 (Thu, 14 Aug 2025) EllapsedTime: 87.0 seconds RetCode: 0 Status: OK