Package: karyoploteR Version: 1.34.2 Command: E:\biocbuild\bbs-3.21-bioc\R\bin\R.exe CMD check --no-multiarch --install=check:karyoploteR.install-out.txt --library=E:\biocbuild\bbs-3.21-bioc\R\library --no-vignettes --timings karyoploteR_1.34.2.tar.gz StartedAt: 2025-08-15 03:29:37 -0400 (Fri, 15 Aug 2025) EndedAt: 2025-08-15 03:43:16 -0400 (Fri, 15 Aug 2025) EllapsedTime: 818.3 seconds RetCode: 0 Status: OK CheckDir: karyoploteR.Rcheck Warnings: 0