Package: jazzPanda Version: 1.0.2 Command: /home/biocbuild/bbs-3.21-bioc/R/bin/R CMD INSTALL jazzPanda StartedAt: 2025-10-15 15:20:27 -0400 (Wed, 15 Oct 2025) EndedAt: 2025-10-15 15:20:59 -0400 (Wed, 15 Oct 2025) EllapsedTime: 31.1 seconds RetCode: 0 Status: OK