Package: jazzPanda Version: 1.0.2 Command: /home/biocbuild/bbs-3.21-bioc/R/bin/R CMD build --keep-empty-dirs --no-resave-data jazzPanda StartedAt: 2025-10-15 18:10:30 -0400 (Wed, 15 Oct 2025) EndedAt: 2025-10-15 18:13:57 -0400 (Wed, 15 Oct 2025) EllapsedTime: 206.2 seconds RetCode: 0 Status: OK PackageFile: jazzPanda_1.0.2.tar.gz PackageFileSize: 4.78 MiB