Package: jazzPanda Version: 1.0.2 Command: /Library/Frameworks/R.framework/Resources/bin/R CMD check --install=check:jazzPanda.install-out.txt --library=/Library/Frameworks/R.framework/Resources/library --no-vignettes --timings jazzPanda_1.0.2.tar.gz StartedAt: 2025-10-14 05:38:49 -0400 (Tue, 14 Oct 2025) EndedAt: 2025-10-14 05:54:32 -0400 (Tue, 14 Oct 2025) EllapsedTime: 943.1 seconds RetCode: 0 Status: OK CheckDir: jazzPanda.Rcheck Warnings: 0