Package: ivygapSE Version: 1.30.0 Command: /home/biocbuild/bbs-3.21-bioc/R/bin/R CMD build --keep-empty-dirs --no-resave-data ivygapSE StartedAt: 2025-10-01 18:14:41 -0400 (Wed, 01 Oct 2025) EndedAt: 2025-10-01 18:16:48 -0400 (Wed, 01 Oct 2025) EllapsedTime: 127.1 seconds RetCode: 0 Status: OK PackageFile: ivygapSE_1.30.0.tar.gz PackageFileSize: 15.44 MiB