Package: ivygapSE Version: 1.30.0 Command: /home/biocbuild/R/R/bin/R CMD check --install=check:ivygapSE.install-out.txt --library=/home/biocbuild/R/R/site-library --no-vignettes --timings ivygapSE_1.30.0.tar.gz StartedAt: 2025-09-30 11:02:37 -0000 (Tue, 30 Sep 2025) EndedAt: 2025-09-30 11:07:15 -0000 (Tue, 30 Sep 2025) EllapsedTime: 278.3 seconds RetCode: 0 Status: OK CheckDir: ivygapSE.Rcheck Warnings: 0