Package: ivygapSE Version: 1.30.0 Command: /Library/Frameworks/R.framework/Resources/bin/R CMD INSTALL ivygapSE StartedAt: 2025-10-13 16:16:34 -0400 (Mon, 13 Oct 2025) EndedAt: 2025-10-13 16:17:04 -0400 (Mon, 13 Oct 2025) EllapsedTime: 30.3 seconds RetCode: 0 Status: OK