Package: iterativeBMA Version: 1.66.0 Command: /Library/Frameworks/R.framework/Resources/bin/R CMD check --install=check:iterativeBMA.install-out.txt --library=/Library/Frameworks/R.framework/Resources/library --no-vignettes --timings iterativeBMA_1.66.0.tar.gz StartedAt: 2025-10-14 05:37:29 -0400 (Tue, 14 Oct 2025) EndedAt: 2025-10-14 05:39:29 -0400 (Tue, 14 Oct 2025) EllapsedTime: 119.9 seconds RetCode: 0 Status: OK CheckDir: iterativeBMA.Rcheck Warnings: 0