Package: iterativeBMA Version: 1.66.0 Command: rm -rf iterativeBMA.buildbin-libdir && mkdir iterativeBMA.buildbin-libdir && /Users/biocbuild/BBS/utils/build-universal.sh iterativeBMA_1.66.0.tar.gz /Library/Frameworks/R.framework/Resources/bin/R iterativeBMA.buildbin-libdir StartedAt: 2025-10-15 19:01:33 -0400 (Wed, 15 Oct 2025) EndedAt: 2025-10-15 19:01:44 -0400 (Wed, 15 Oct 2025) EllapsedTime: 10.2 seconds RetCode: 0 Status: OK PackageFile: iterativeBMA_1.66.0.tgz PackageFileSize: 214.9 KiB