Package: isomiRs Version: 1.36.1 Command: E:\biocbuild\bbs-3.21-bioc\R\bin\R.exe CMD check --no-multiarch --install=check:isomiRs.install-out.txt --library=E:\biocbuild\bbs-3.21-bioc\R\library --no-vignettes --timings isomiRs_1.36.1.tar.gz StartedAt: 2025-08-15 03:27:49 -0400 (Fri, 15 Aug 2025) EndedAt: 2025-08-15 03:33:36 -0400 (Fri, 15 Aug 2025) EllapsedTime: 347.1 seconds RetCode: 0 Status: OK CheckDir: isomiRs.Rcheck Warnings: 0