Package: isomiRs Version: 1.36.0 Command: /Library/Frameworks/R.framework/Resources/bin/R CMD build --keep-empty-dirs --no-resave-data isomiRs StartedAt: 2025-04-21 17:15:45 -0400 (Mon, 21 Apr 2025) EndedAt: 2025-04-21 17:17:27 -0400 (Mon, 21 Apr 2025) EllapsedTime: 102.0 seconds RetCode: 0 Status: OK PackageFile: isomiRs_1.36.0.tar.gz PackageFileSize: 4.519 MiB