Package: isomiRs Version: 1.36.1 Command: /Library/Frameworks/R.framework/Resources/bin/R CMD INSTALL isomiRs StartedAt: 2025-09-29 17:05:22 -0400 (Mon, 29 Sep 2025) EndedAt: 2025-09-29 17:06:18 -0400 (Mon, 29 Sep 2025) EllapsedTime: 56.8 seconds RetCode: 0 Status: OK