Package: isomiRs Version: 1.36.1 Command: /Library/Frameworks/R.framework/Resources/bin/R CMD check --install=check:isomiRs.install-out.txt --library=/Library/Frameworks/R.framework/Resources/library --no-vignettes --timings isomiRs_1.36.1.tar.gz StartedAt: 2025-10-01 01:27:56 -0400 (Wed, 01 Oct 2025) EndedAt: 2025-10-01 01:33:55 -0400 (Wed, 01 Oct 2025) EllapsedTime: 359.2 seconds RetCode: 1 Status: ERROR CheckDir: isomiRs.Rcheck Warnings: NA