Package: isobar Version: 1.54.0 Command: /home/biocbuild/bbs-3.21-bioc/R/bin/R CMD build --keep-empty-dirs --no-resave-data isobar StartedAt: 2025-10-15 18:09:35 -0400 (Wed, 15 Oct 2025) EndedAt: 2025-10-15 18:10:47 -0400 (Wed, 15 Oct 2025) EllapsedTime: 71.1 seconds RetCode: 0 Status: OK PackageFile: isobar_1.54.0.tar.gz PackageFileSize: 2.812 MiB