Package: islify Version: 1.0.0 Command: /home/biocbuild/bbs-3.21-bioc/R/bin/R CMD check --install=check:islify.install-out.txt --library=/home/biocbuild/bbs-3.21-bioc/R/site-library --timings islify_1.0.0.tar.gz StartedAt: 2025-10-16 00:23:45 -0400 (Thu, 16 Oct 2025) EndedAt: 2025-10-16 00:25:08 -0400 (Thu, 16 Oct 2025) EllapsedTime: 83.1 seconds RetCode: 0 Status: OK CheckDir: islify.Rcheck Warnings: 0