Package: islify Version: 1.0.0 Command: /home/biocbuild/bbs-3.21-bioc/R/bin/R CMD build --keep-empty-dirs --no-resave-data islify StartedAt: 2025-10-15 18:09:30 -0400 (Wed, 15 Oct 2025) EndedAt: 2025-10-15 18:09:49 -0400 (Wed, 15 Oct 2025) EllapsedTime: 19.0 seconds RetCode: 0 Status: OK PackageFile: islify_1.0.0.tar.gz PackageFileSize: 3.043 MiB