Package: islify Version: 1.0.0 Command: /Library/Frameworks/R.framework/Resources/bin/R CMD build --keep-empty-dirs --no-resave-data islify StartedAt: 2025-10-13 20:00:47 -0400 (Mon, 13 Oct 2025) EndedAt: 2025-10-13 20:01:32 -0400 (Mon, 13 Oct 2025) EllapsedTime: 45.5 seconds RetCode: 0 Status: OK PackageFile: islify_1.0.0.tar.gz PackageFileSize: 3.043 MiB