Package: islify Version: 1.0.0 Command: rm -rf islify.buildbin-libdir && mkdir islify.buildbin-libdir && /Users/biocbuild/BBS/utils/build-universal.sh islify_1.0.0.tar.gz /Library/Frameworks/R.framework/Resources/bin/R islify.buildbin-libdir StartedAt: 2025-04-21 22:39:37 -0400 (Mon, 21 Apr 2025) EndedAt: 2025-04-21 22:39:43 -0400 (Mon, 21 Apr 2025) EllapsedTime: 6.1 seconds RetCode: 0 Status: OK PackageFile: islify_1.0.0.tgz PackageFileSize: 2.082 MiB