Package: interactiveDisplay Version: 1.46.0 Command: chmod a+r interactiveDisplay -R && E:\biocbuild\bbs-3.21-bioc\R\bin\R.exe CMD build --keep-empty-dirs --no-resave-data interactiveDisplay StartedAt: 2025-08-14 19:53:03 -0400 (Thu, 14 Aug 2025) EndedAt: 2025-08-14 19:54:12 -0400 (Thu, 14 Aug 2025) EllapsedTime: 69.3 seconds RetCode: 0 Status: OK PackageFile: interactiveDisplay_1.46.0.tar.gz PackageFileSize: 4.52 MiB