Package: interactiveDisplay Version: 1.46.0 Command: /Library/Frameworks/R.framework/Resources/bin/R CMD build --keep-empty-dirs --no-resave-data interactiveDisplay StartedAt: 2025-10-14 02:47:31 -0400 (Tue, 14 Oct 2025) EndedAt: 2025-10-14 02:48:52 -0400 (Tue, 14 Oct 2025) EllapsedTime: 80.8 seconds RetCode: 0 Status: OK PackageFile: interactiveDisplay_1.46.0.tar.gz PackageFileSize: 4.56 MiB