Package: impute Version: 1.82.0 Command: E:\biocbuild\bbs-3.21-bioc\R\bin\R.exe CMD check --no-multiarch --install=check:impute.install-out.txt --library=E:\biocbuild\bbs-3.21-bioc\R\library --no-vignettes --timings impute_1.82.0.tar.gz StartedAt: 2025-08-15 03:16:38 -0400 (Fri, 15 Aug 2025) EndedAt: 2025-08-15 03:17:05 -0400 (Fri, 15 Aug 2025) EllapsedTime: 26.6 seconds RetCode: 0 Status: WARNINGS CheckDir: impute.Rcheck Warnings: 1